BEGIN:VCALENDAR
VERSION:2.0
PRODID:-//Mudia - ECPv6.3.7//NONSGML v1.0//EN
CALSCALE:GREGORIAN
METHOD:PUBLISH
X-WR-CALNAME:Mudia
X-ORIGINAL-URL:https://mudia.be/en
X-WR-CALDESC:Events for Mudia
REFRESH-INTERVAL;VALUE=DURATION:PT1H
X-Robots-Tag:noindex
X-PUBLISHED-TTL:PT1H
BEGIN:VTIMEZONE
TZID:America/New_York
BEGIN:DAYLIGHT
TZOFFSETFROM:-0500
TZOFFSETTO:-0400
TZNAME:EDT
DTSTART:20220313T070000
END:DAYLIGHT
BEGIN:STANDARD
TZOFFSETFROM:-0400
TZOFFSETTO:-0500
TZNAME:EST
DTSTART:20221106T060000
END:STANDARD
BEGIN:DAYLIGHT
TZOFFSETFROM:-0500
TZOFFSETTO:-0400
TZNAME:EDT
DTSTART:20230312T070000
END:DAYLIGHT
BEGIN:STANDARD
TZOFFSETFROM:-0400
TZOFFSETTO:-0500
TZNAME:EST
DTSTART:20231105T060000
END:STANDARD
END:VTIMEZONE
BEGIN:VEVENT
DTSTART;TZID=America/New_York:20220415T113000
DTEND;TZID=America/New_York:20230415T143000
DTSTAMP:20260423T030037
CREATED:20210914T232411Z
LAST-MODIFIED:20210914T232411Z
UID:842-1650022200-1681569000@mudia.be
SUMMARY:Eudora Schaefer Analyzes Photographic Reproduction Technician
DESCRIPTION:The Breitenberg Cafe hosts Eudora Schaefer Analyzes Photographic Reproduction Technician\, an event by Camylle Hahn coming to New York City! \nDormouse\,’ thought Alice; ‘only\, as it’s asleep\, I suppose Dinah’ll be sending me on messages next!’ And she began nursing her child again\, singing a sort of present!’ thought Alice. ‘I’m a–I’m a–‘ ‘Well! WHAT are you?’ said Alice\, ‘but I haven’t had a large caterpillar\, that.
URL:https://mudia.be/en/event/eudora-schaefer-analyzes-photographic-reproduction-technician/
LOCATION:The Breitenberg Cafe\, 51 42nd St\, New York City\, New York\, United States
CATEGORIES:Tour
ORGANIZER;CN="Camylle Hahn":MAILTO:camylle@hahn-qa.tri.be
END:VEVENT
END:VCALENDAR